BEGIN:VCALENDAR
VERSION:2.0
PRODID:-//ChamberMaster//Event Calendar 2.0//EN
METHOD:PUBLISH
X-PUBLISHED-TTL:P3D
REFRESH-INTERVAL:P3D
CALSCALE:GREGORIAN
BEGIN:VEVENT
DTSTART:20160929T160000Z
DTEND:20161002T160000Z
X-MICROSOFT-CDO-ALLDAYEVENT:FALSE
SUMMARY:Ringling Bros. And Barnum & Bailey: Circus Xtreme
DESCRIPTION:It?s time for your family to be amazed by all the X-TRAORDINARY things you know and love about America?s favorite live family entertainment experience. Be astonished by UN-XPECTED circus spectacles you?ve never seen before and that can?t be seen anywhere else but at The Greatest Show On Earth®. Get ready for an X-HILARATING adventure with X-TRAORDINARY circus artists and magnificent X-OTIC animals\, like our big cats! It?s time to awaken the spirit of Children Of All Ages and stir the imagination of your family! Tickets go on sale Tuesday\, June 7\, 2016 @ 10 AM. Tickets start at $12 for the Opening Night performance and special kids? pricing is available for all performances. Market pricing applies to all tickets. Rates can ­fluctuate based on factors that affect supply and demand. Lock in your price and location today! Additional fees may apply. Tickets may be purchased at the Van Andel Arena® and DeVos Place® convention center box offices\, Ticketmaster ticket centers\, including D & W stores and select Family Fare and Walmart locations\, charge by phone: 1.800.745.3000 or on-line at Ticketmaster.com.
X-ALT-DESC;FMTTYPE=text/html:It?s time for your family to be amazed by all the X-TRAORDINARY things you know and love about America?s favorite live family entertainment experience. Be astonished by UN-XPECTED circus spectacles you?ve never seen before and that can?t be seen anywhere else but at The Greatest Show On Earth®. Get ready for an X-HILARATING adventure with X-TRAORDINARY circus artists and magnificent X-OTIC animals\, like our big cats! It?s time to awaken the spirit of Children Of All Ages and stir the imagination of your family! Tickets go on sale Tuesday\, June 7\, 2016 @ 10 AM. Tickets start at $12 for the Opening Night performance and special kids? pricing is available for all performances. Market pricing applies to all tickets. Rates can ­fluctuate based on factors that affect supply and demand. Lock in your price and location today! Additional fees may apply. Tickets may be purchased at the Van Andel Arena® and DeVos Place® convention center box offices\, Ticketmaster ticket centers\, including D &amp\; W stores and select Family Fare and Walmart locations\, charge by phone: 1.800.745.3000 or on-line at Ticketmaster.com.
LOCATION:Van Andel Arena
UID:e.2018.401
SEQUENCE:3
DTSTAMP:20260425T225832Z
URL:https://members.westmihcc.org/events/details/ringling-bros-and-barnum-bailey-circus-xtreme-09-29-2016-401
END:VEVENT

END:VCALENDAR
