BEGIN:VCALENDAR
VERSION:2.0
PRODID:-//ChamberMaster//Event Calendar 2.0//EN
METHOD:PUBLISH
X-PUBLISHED-TTL:P3D
REFRESH-INTERVAL:P3D
CALSCALE:GREGORIAN
BEGIN:VEVENT
DTSTART:20190824T140000Z
DTEND:20190824T160000Z
X-MICROSOFT-CDO-ALLDAYEVENT:FALSE
SUMMARY:Rise for Refuge
DESCRIPTION:Our country's long-standing commitment to providing refuge for people fleeing violence and persecution is being compromised. The president's administration has taken action to effectively eliminate asylum and potentially end refugee resettlement. As well as expedited deportations and family separation. \n\n\n\nWest Michigan has a long history of welcoming. In response to these policy proposals and changes\, we will "Rise For Refuge" to advocate for policy change and reaffirm our commitment to refugees\, immigrants and asylum-seekers in West Michigan as part of a nationwide day of action.\n\n\n\nPlease join us on Saturday\, Aug. 24 from 10am to Noon at Tabernacle Community Church in Grand Rapids\, MI. \n\n\n\nVisit the Rise for Refuge website for more information:\n\nhttps://www.weareallusa.org/riseforrefuge \n\n\n\nYou may also RSVP for this event on the Rise for Refuge West Michigan event page: \n\nhttps://www.weareallusa.org/westmichigan_8-24-2019
X-ALT-DESC;FMTTYPE=text/html:<span style="background-color:rgb(255\, 255\, 255)\; color:rgb(29\, 33\, 41)\; font-family:helvetica\,arial\,sans-serif\; font-size:14px">Our country&#39\;s long-standing commitment to providing refuge for people fleeing violence and persecution is being compromised. The president&#39\;s administration has taken action to effectively eliminate asylum and potentially end refugee resettlement. As well as expedited deportations and family separation.&nbsp\;</span><br />\n<br />\n<span style="background-color:rgb(255\, 255\, 255)\; color:rgb(29\, 33\, 41)\; font-family:helvetica\,arial\,sans-serif\; font-size:14px">West Michigan has a long history of welcoming. In response to these policy proposals and changes\, we will &quot\;Rise For Refuge&quot\; to advocate for policy change and reaffirm our commitment to refugees\, immigrants and asylum-seekers in West Michigan as part of a nationwide day of action.</span><br />\n<br />\n<span style="background-color:rgb(255\, 255\, 255)\; color:rgb(29\, 33\, 41)\; font-family:helvetica\,arial\,sans-serif\; font-size:14px">Please join us on Saturday\, Aug. 24 from 10am to Noon at Tabernacle Community Church in Grand Rapids\, MI. </span><br />\n<br />\n<span style="background-color:rgb(255\, 255\, 255)\; color:rgb(29\, 33\, 41)\; font-family:helvetica\,arial\,sans-serif\; font-size:14px">Visit the Rise for Refuge website for more information:</span><br />\n<a href="https://www.weareallusa.org/riseforrefuge?fbclid=IwAR2MDLUH_9NQ-j2QhacyFKQ0QWZz8KtOCvfR0d2YRsBA2bJ9tnoFBeHqm00" rel="nofollow noopener" style="color: rgb(56\, 88\, 152)\; cursor: pointer\; text-decoration-line: none\; font-family: Helvetica\, Arial\, sans-serif\; font-size: 14px\; white-space: pre-wrap\; background-color: rgb(255\, 255\, 255)\;" target="_blank">https://www.weareallusa.org/riseforrefuge</a><span style="background-color:rgb(255\, 255\, 255)\; color:rgb(29\, 33\, 41)\; font-family:helvetica\,arial\,sans-serif\; font-size:14px"> </span><br />\n<br />\n<span style="background-color:rgb(255\, 255\, 255)\; color:rgb(29\, 33\, 41)\; font-family:helvetica\,arial\,sans-serif\; font-size:14px">You may also RSVP for this event on the Rise for Refuge West Michigan event page: </span><br />\n<a href="https://www.weareallusa.org/westmichigan_8-24-2019?fbclid=IwAR0nkpACeEUM1xQfepLirSAcs9_84pBSmcfeUsS_u-rSG5NObFv7MeVRfVo" rel="nofollow noopener" style="color: rgb(56\, 88\, 152)\; cursor: pointer\; text-decoration-line: none\; font-family: Helvetica\, Arial\, sans-serif\; font-size: 14px\; white-space: pre-wrap\; background-color: rgb(255\, 255\, 255)\;" target="_blank">https://www.weareallusa.org/westmichigan_8-24-2019</a><span style="background-color:rgb(255\, 255\, 255)\; color:rgb(29\, 33\, 41)\; font-family:helvetica\,arial\,sans-serif\; font-size:14px"> </span>
LOCATION:Tabernacle Community Church 2530 Eastern Ave SE Grand Rapids\, MI 49507
UID:e.2018.1325
SEQUENCE:3
DTSTAMP:20260419T225350Z
URL:https://members.westmihcc.org/events/details/rise-for-refuge-1325
END:VEVENT

END:VCALENDAR
