BEGIN:VCALENDAR
VERSION:2.0
PRODID:-//ChamberMaster//Event Calendar 2.0//EN
METHOD:PUBLISH
X-PUBLISHED-TTL:P3D
REFRESH-INTERVAL:P3D
CALSCALE:GREGORIAN
BEGIN:VEVENT
DTSTART:20190502T210000Z
DTEND:20190503T003000Z
X-MICROSOFT-CDO-ALLDAYEVENT:FALSE
SUMMARY:Rising Voices: The Bennett Prize for Women Figurtive Realist Painters
DESCRIPTION:Join the organizers\, jurors\, and top ten finalists of the first ever Bennett Prize national competition recognizing women figurative realist painters. The winner of the $50\,000 top prize will be announced at 7:00 pm at a program following the public reception. Prize funders and collectors Steve Bennett and Dr. Elaine Melotti Schmidt will speak about the Prize and announce the finalists. Jurors Andrea Kowch\, Art Martin\, and Maria Tomasula will offer comments about the finalist and prize selection before the top award recipient is announced. The event is free and open to the public.
X-ALT-DESC;FMTTYPE=text/html:Join the organizers\, jurors\, and top ten finalists of the first&ndash\;ever Bennett Prize national competition recognizing women figurative realist painters. The winner of the $50\,000 top prize will be announced at 7:00 pm at a program following the public reception. Prize funders and collectors Steve Bennett and Dr. Elaine Melotti Schmidt will speak about the Prize and announce the finalists. Jurors Andrea Kowch\, Art Martin\, and Maria Tomasula will offer comments about the finalist and prize selection before the top award recipient is announced. The event is free and open to the public.
LOCATION:Muskegon Museum of Art 296 W. Webster Ave. Muskegon\, MI 49440
UID:e.2018.1199
SEQUENCE:3
DTSTAMP:20260420T033454Z
URL:https://members.westmihcc.org/events/details/rising-voices-the-bennett-prize-for-women-figurtive-realist-painters-1199
END:VEVENT

END:VCALENDAR
