BEGIN:VCALENDAR
VERSION:2.0
PRODID:-//ChamberMaster//Event Calendar 2.0//EN
METHOD:PUBLISH
X-PUBLISHED-TTL:P3D
REFRESH-INTERVAL:P3D
CALSCALE:GREGORIAN
BEGIN:VEVENT
DTSTART:20181119T000000Z
DTEND:20181119T020000Z
X-MICROSOFT-CDO-ALLDAYEVENT:FALSE
SUMMARY:Rudolph the Red-Nosed Reindeer: The Musical
DESCRIPTION:The beloved TV classic Rudolph The Red-Nosed Reindeer soars off the screen and onto the stage this holiday season. Come see all your favorite characters from the special including Santa\, and Mrs. Claus\, Hermey the Elf\, the Abominable Snow Monster\, Clarice\, Yukon Cornelius and\, of course\, Rudolph\, as they come to life in Rudolph The Red-Nosed Reindeer: The Musical. Coming to DeVos Performance Hall on Sunday\, November 18th. It's an adventure that teaches us that what makes you different can be what makes you special. Don't miss this wonderful holiday tradition that speaks to the misfit in all of us.
X-ALT-DESC;FMTTYPE=text/html:The beloved TV classic Rudolph The Red-Nosed Reindeer soars off the screen and onto the stage this holiday season. Come see all your favorite characters from the special including Santa\, and Mrs. Claus\, Hermey the Elf\, the Abominable Snow Monster\, Clarice\, Yukon Cornelius and\, of course\, Rudolph\, as they come to life in Rudolph The Red-Nosed Reindeer: The Musical. Coming to DeVos Performance Hall on Sunday\, November 18th. It&#39\;s an adventure that teaches us that what makes you different can be what makes you special. Don&#39\;t miss this wonderful holiday tradition that speaks to the misfit in all of us.
LOCATION:DeVos Performance Hall
UID:e.2018.894
SEQUENCE:3
DTSTAMP:20260422T111106Z
URL:https://members.westmihcc.org/events/details/rudolph-the-red-nosed-reindeer-the-musical-894
END:VEVENT

END:VCALENDAR
