BEGIN:VCALENDAR
VERSION:2.0
PRODID:-//ChamberMaster//Event Calendar 2.0//EN
METHOD:PUBLISH
X-PUBLISHED-TTL:P3D
REFRESH-INTERVAL:P3D
CALSCALE:GREGORIAN
BEGIN:VEVENT
DTSTART:20160827T120000Z
DTEND:20160827T160000Z
X-MICROSOFT-CDO-ALLDAYEVENT:FALSE
SUMMARY:Run for the Hills 5K Walk/Run/Bike
DESCRIPTION:Join us for the first annual run for the hills 5K Walk/Run/Bike event within the Black Hills and Roosevelt Park neighborhoods. Come for the 5K and stay for the post-race community event which will include: prizes\, music\, refreshments\, and a raffle.
X-ALT-DESC;FMTTYPE=text/html:<p><span style="font-size:18px"><strong>Join us for the first annual run for the hills 5K Walk/Run/Bike event within the Black Hills and Roosevelt Park neighborhoods. Come for the 5K and stay for the post-race community event which will include: prizes\, music\, refreshments\, and a raffle. </strong></span></p>\n
LOCATION:Roberto Clemente Park 546 Rumsey St. SW Grand Rapids\, MI 49503
UID:e.2018.418
SEQUENCE:3
DTSTAMP:20260426T000227Z
URL:https://members.westmihcc.org/events/details/run-for-the-hills-5k-walk-run-bike-08-27-2016-418
END:VEVENT

END:VCALENDAR
