BEGIN:VCALENDAR
VERSION:2.0
PRODID:-//ChamberMaster//Event Calendar 2.0//EN
METHOD:PUBLISH
X-PUBLISHED-TTL:P3D
REFRESH-INTERVAL:P3D
CALSCALE:GREGORIAN
BEGIN:VEVENT
DTSTART:20170310T000000Z
DTEND:20170313T010000Z
X-MICROSOFT-CDO-ALLDAYEVENT:FALSE
SUMMARY:Saladin Shrine Circus 2017
DESCRIPTION:With three rings of affordable family fun\, "The Shrine Circus" will thrill fans of all ages. Come see the death-defying aerial acts\, animal attractions including tigers and elephants. In addition to the performing acts\, kids will have the unique opportunity to ride and pet different types of animals. *** Acts are subject to change ***
X-ALT-DESC;FMTTYPE=text/html:With three rings of affordable family fun\, &quot\;The Shrine Circus&quot\; will thrill fans of all ages. Come see the death-defying aerial acts\, animal attractions including tigers and elephants. In addition to the performing acts\, kids will have the unique opportunity to ride and pet different types of animals. *** Acts are subject to change ***
LOCATION:The DeltaPlex Arena & Convention Center 2500 Turner Ave.\, Grand Rapids\, MI 49544
UID:e.2018.539
SEQUENCE:3
DTSTAMP:20260425T143930Z
URL:https://members.westmihcc.org/events/details/saladin-shrine-circus-2017-539
END:VEVENT

END:VCALENDAR
