BEGIN:VCALENDAR
VERSION:2.0
PRODID:-//ChamberMaster//Event Calendar 2.0//EN
METHOD:PUBLISH
X-PUBLISHED-TTL:P3D
REFRESH-INTERVAL:P3D
CALSCALE:GREGORIAN
BEGIN:VEVENT
DTSTART:20180321T160000Z
DTEND:20180321T170000Z
X-MICROSOFT-CDO-ALLDAYEVENT:FALSE
SUMMARY:SBDC & GRPL Business Resource Lunch and Learn
DESCRIPTION:Join us for an introduction to the Small Business Development Center (SBDC) and the Grand Rapids Public Library (GRPL). Bring your own lunch and learn about the services available through both organizations. Topics covered include:   Who are they?   What programs do they provide?   Who do they work with?   How do you get connected?
X-ALT-DESC;FMTTYPE=text/html:Join us for an introduction to the Small Business Development Center (SBDC) and the Grand Rapids Public Library (GRPL). Bring your own lunch and learn about the services available through both organizations. Topics covered include: &bull\; Who are they? &bull\; What programs do they provide? &bull\; Who do they work with? &bull\; How do you get connected?
LOCATION:Grand Rapids Public Library
UID:e.2018.805
SEQUENCE:3
DTSTAMP:20260422T230715Z
URL:https://members.westmihcc.org/events/details/sbdc-grpl-business-resource-lunch-and-learn-805
END:VEVENT

END:VCALENDAR
