BEGIN:VCALENDAR
VERSION:2.0
PRODID:-//ChamberMaster//Event Calendar 2.0//EN
METHOD:PUBLISH
X-PUBLISHED-TTL:P3D
REFRESH-INTERVAL:P3D
CALSCALE:GREGORIAN
BEGIN:VEVENT
DTSTART:20171108T200000Z
DTEND:20171108T230000Z
X-MICROSOFT-CDO-ALLDAYEVENT:FALSE
SUMMARY:SBDC West Michigan Open House
DESCRIPTION:We will be showcasing the impact of the West Michigan SBDC\, and you will have the opportunity to meet the West Michigan Team and learn about our services. This event is free and snacks will be provided. Parking is available in the GVSU Fulton Parking Lot. Please RSVP via email at sbdc@gvsu.edu or call our office at (616) 331-7370.
X-ALT-DESC;FMTTYPE=text/html:We will be showcasing the impact of the West Michigan SBDC\, and you will have the opportunity to meet the West Michigan Team and learn about our services. This event is free and snacks will be provided. Parking is available in the GVSU Fulton Parking Lot. Please RSVP via email at sbdc@gvsu.edu or call our office at (616) 331-7370.
LOCATION:50 Front Ave. SW Grand Rapids\, MI 49504
UID:e.2018.679
SEQUENCE:3
DTSTAMP:20260423T052537Z
URL:https://members.westmihcc.org/events/details/sbdc-west-michigan-open-house-11-08-2017-679
END:VEVENT

END:VCALENDAR
