BEGIN:VCALENDAR
VERSION:2.0
PRODID:-//ChamberMaster//Event Calendar 2.0//EN
METHOD:PUBLISH
X-PUBLISHED-TTL:P3D
REFRESH-INTERVAL:P3D
CALSCALE:GREGORIAN
BEGIN:VEVENT
DTSTART:20181018T233000Z
DTEND:20181019T020000Z
X-MICROSOFT-CDO-ALLDAYEVENT:FALSE
SUMMARY:Sean Blackman in Transit Presents Fiesta Caribena
DESCRIPTION:Sean Blackman In Transit presents Fiesta Caribe a as the third event in the Latin Entertainment Series\, celebrating Latin culture in Michigan. The third series event will take place at DeVos Performance Hall on Thursday\, October 18\, 2018 at 7:30 PM. Fiesta Caribe a will feature live music and dancers performing salsa\, bachata\, reggaeton and kizomba. The music comes from the Caribbean regions including sounds from Cuba\, Dominican Republic\, Puerto Rico and Haiti fused together with Detroit Soul. The series is presented by SMG-managed DeVos Performance Hall and the Grand Rapids-Kent County Convention/Arena Authority's Community Inclusion Group (CIG). Tickets are available now. For current ticket prices\, visit Ticketmaster.com.
X-ALT-DESC;FMTTYPE=text/html:Sean Blackman In Transit presents Fiesta Caribe&ntilde\;a as the third event in the Latin Entertainment Series\, celebrating Latin culture in Michigan. The third series event will take place at DeVos Performance Hall on Thursday\, October 18\, 2018 at 7:30 PM. Fiesta Caribe&ntilde\;a will feature live music and dancers performing salsa\, bachata\, reggaeton and kizomba. The music comes from the Caribbean regions including sounds from Cuba\, Dominican Republic\, Puerto Rico and Haiti fused together with Detroit Soul. The series is presented by SMG-managed DeVos Performance Hall and the Grand Rapids-Kent County Convention/Arena Authority&#39\;s Community Inclusion Group (CIG). Tickets are available now. For current ticket prices\, visit Ticketmaster.com.
LOCATION:Devos Performance Hall
UID:e.2018.973
SEQUENCE:3
DTSTAMP:20260422T135825Z
URL:https://members.westmihcc.org/events/details/sean-blackman-in-transit-presents-fiesta-caribena-973
END:VEVENT

END:VCALENDAR
