BEGIN:VCALENDAR
VERSION:2.0
PRODID:-//ChamberMaster//Event Calendar 2.0//EN
METHOD:PUBLISH
X-PUBLISHED-TTL:P3D
REFRESH-INTERVAL:P3D
CALSCALE:GREGORIAN
BEGIN:VEVENT
DTSTART:20180927T233000Z
DTEND:20180928T020000Z
X-MICROSOFT-CDO-ALLDAYEVENT:FALSE
SUMMARY:Sean Blackman presents Mexico in Transit
DESCRIPTION:Mexico in Transit is a journey of sounds from Mexico featuring Banda\, Cumbia and Mariachi with a fusion of Detroit Soul.
X-ALT-DESC;FMTTYPE=text/html:Mexico in Transit is a journey of sounds from Mexico featuring Banda\, Cumbia and Mariachi with a fusion of Detroit Soul.
LOCATION:Devos Performance Hall
UID:e.2018.957
SEQUENCE:3
DTSTAMP:20260422T133923Z
URL:https://members.westmihcc.org/events/details/sean-blackman-presents-mexico-in-transit-957
END:VEVENT

END:VCALENDAR
