BEGIN:VCALENDAR
VERSION:2.0
PRODID:-//ChamberMaster//Event Calendar 2.0//EN
METHOD:PUBLISH
X-PUBLISHED-TTL:P3D
REFRESH-INTERVAL:P3D
CALSCALE:GREGORIAN
BEGIN:VEVENT
DTSTART:20160820T000000Z
DTEND:20160820T020000Z
X-MICROSOFT-CDO-ALLDAYEVENT:FALSE
SUMMARY:Season 8. The Queens.
DESCRIPTION:Murray & Peter proudly present a fabulous live performance with contestants from Season 8\, RuPaul's Drag Race (Logo TV)\, Friday\, August 19th at 8:00 PM in DeVos Performance Hall. Contestants from Season 8 include Kim Chi\, Naomi Smalls\, Chi Chi DeVayne\, Thorgy Thor\, and Derrick Barry. Season 7 Miss Congeniality Katya Zamolodchikova will be host. Tickets go on sale Friday\, June 24 at 11:00 AM. Ticket prices are $20\, $35\, $50\, and $75\, and for the first time ever\, $250 front row and $150 second row Super Fan packages are available with first-in-line meet and greet passes\, autographed tour posters\, laminates and lanyards. This is an all-ages show. Tickets will be available at the DeVos Place  and Van Andel Arena  box offices\, online at Ticketmaster.com\, and charge by phone at 1-800-745-3000. Prices and lineup are subject to change. The queens are ready to rock the catwalk!
X-ALT-DESC;FMTTYPE=text/html:Murray &amp\; Peter proudly present a fabulous live performance with contestants from Season 8\, RuPaul&rsquo\;s Drag Race (Logo TV)\, Friday\, August 19th at 8:00 PM in DeVos Performance Hall. Contestants from Season 8 include Kim Chi\, Naomi Smalls\, Chi Chi DeVayne\, Thorgy Thor\, and Derrick Barry. Season 7 Miss Congeniality Katya Zamolodchikova will be host. Tickets go on sale Friday\, June 24 at 11:00 AM. Ticket prices are $20\, $35\, $50\, and $75\, and for the first time ever\, $250 front row and $150 second row Super Fan packages are available with first-in-line meet and greet passes\, autographed tour posters\, laminates and lanyards. This is an all-ages show. Tickets will be available at the DeVos Place&reg\; and Van Andel Arena&reg\; box offices\, online at Ticketmaster.com\, and charge by phone at 1-800-745-3000. Prices and lineup are subject to change. The queens are ready to rock the catwalk!
LOCATION:DeVos Performance Hall
UID:e.2018.411
SEQUENCE:3
DTSTAMP:20260425T235937Z
URL:https://members.westmihcc.org/events/details/season-8-the-queens-08-19-2016-411
END:VEVENT

END:VCALENDAR
