BEGIN:VCALENDAR
VERSION:2.0
PRODID:-//ChamberMaster//Event Calendar 2.0//EN
METHOD:PUBLISH
X-PUBLISHED-TTL:P3D
REFRESH-INTERVAL:P3D
CALSCALE:GREGORIAN
BEGIN:VEVENT
DTSTART:20181011T160000Z
DTEND:20181011T173000Z
X-MICROSOFT-CDO-ALLDAYEVENT:FALSE
SUMMARY:Seeds of Growth: Awards Luncheon and Fundraiser
DESCRIPTION:GROW Awards Luncheon and Fundraiser
X-ALT-DESC;FMTTYPE=text/html:GROW Awards Luncheon and Fundraiser
LOCATION:Amway Grand Plaza Hotel
UID:e.2018.746
SEQUENCE:3
DTSTAMP:20260422T135727Z
URL:https://members.westmihcc.org/events/details/seeds-of-growth-awards-luncheon-and-fundraiser-746
END:VEVENT

END:VCALENDAR
