BEGIN:VCALENDAR
VERSION:2.0
PRODID:-//ChamberMaster//Event Calendar 2.0//EN
METHOD:PUBLISH
X-PUBLISHED-TTL:P3D
REFRESH-INTERVAL:P3D
CALSCALE:GREGORIAN
BEGIN:VEVENT
DTSTART:20161004T153000Z
DTEND:20161004T173000Z
X-MICROSOFT-CDO-ALLDAYEVENT:FALSE
SUMMARY:Seeds of GROWth Luncheon
DESCRIPTION:GROW is proud to present The Seeds of GROWth Awards and Luncheon once again this year at the JW Marriott in downtown Grand Rapids. Join GROW and 300 of Grand Rapids' business leaders as we recognize the award winners in the categories of: Business of the Year\; Leadership Award\; and the Lee Ann Moss Service Award.
X-ALT-DESC;FMTTYPE=text/html:GROW is proud to present The Seeds of GROWth Awards and Luncheon once again this year at the JW Marriott in downtown Grand Rapids. Join GROW and 300 of Grand Rapids&#39\; business leaders as we recognize the award winners in the categories of: Business of the Year\; Leadership Award\; and the Lee Ann Moss Service Award.
LOCATION:JW Marriott
UID:e.2018.485
SEQUENCE:3
DTSTAMP:20260425T212754Z
URL:https://members.westmihcc.org/events/details/seeds-of-growth-luncheon-485
END:VEVENT

END:VCALENDAR
