BEGIN:VCALENDAR
VERSION:2.0
PRODID:-//ChamberMaster//Event Calendar 2.0//EN
METHOD:PUBLISH
X-PUBLISHED-TTL:P3D
REFRESH-INTERVAL:P3D
CALSCALE:GREGORIAN
BEGIN:VEVENT
DTSTART:20200330T120000Z
DTEND:20200330T220000Z
X-MICROSOFT-CDO-ALLDAYEVENT:FALSE
SUMMARY:ServSafe Certification Training in Spanish
DESCRIPTION:Transformando West Michigan\, una iniciativa de la C mara Hispana\, proveer  entrenamientos de ServSafe mensualmente! Estos entrenamientos son en espa ol. \n\n\n\nLos espacios son limitados\; llame al (616) 452-3960 para inscribirse. \n\n\n\nTransformando West Michigan\, an initiative powered by the West Michigan Hispanic Chamber of Commerce\, will provide ServSafe trainings\, given in Spanish\, monthly! \n\n\n\nSpots per training are limited\; register by calling (616) 452-3960.
X-ALT-DESC;FMTTYPE=text/html:<span style="font-size:14px\;">Transformando West Michigan\, una iniciativa de la C&aacute\;mara Hispana\, proveer&aacute\; entrenamientos de ServSafe mensualmente! Estos entrenamientos son en espa&ntilde\;ol.&nbsp\;<br />\n<br />\nLos espacios son limitados\; llame al (616) 452-3960 para inscribirse.&nbsp\;<br />\n<br />\nTransformando West Michigan\, an initiative powered by the West Michigan Hispanic Chamber of Commerce\, will provide ServSafe trainings\, given in Spanish\, monthly!&nbsp\;</span><br />\n<br />\n<span style="font-size:14px\;">Spots per training are limited\; register by calling (616) 452-3960.&nbsp\;</span>
LOCATION:West Michigan Hispanic Chamber of Commerce 2007 Division Avenue South Grand Rapids\, MI 49507
UID:e.2018.1486
SEQUENCE:3
DTSTAMP:20260419T123055Z
URL:https://members.westmihcc.org/events/details/servsafe-certification-training-in-spanish-1486
END:VEVENT

END:VCALENDAR
