BEGIN:VCALENDAR
VERSION:2.0
PRODID:-//ChamberMaster//Event Calendar 2.0//EN
METHOD:PUBLISH
X-PUBLISHED-TTL:P3D
REFRESH-INTERVAL:P3D
CALSCALE:GREGORIAN
BEGIN:VEVENT
DTSTART:20180718T233000Z
DTEND:20180719T023000Z
X-MICROSOFT-CDO-ALLDAYEVENT:FALSE
SUMMARY:Shania Twain
DESCRIPTION:Shania Twain hits the road in support of her new album NOW. This is Shania's first tour since "Rock This Country" back in 2015. Shania is a five-time GRAMMY Award-winner and the reigning Queen of Country Pop. With more than 90 million albums sold worldwide and U.S. sales topping 34.5 million\, Shania remains the top-selling female country artist of all time. Shania's albums include her Platinum-selling 1993 debut\, Shania Twain\; the GRAMMY Award-winning\, Double Diamond-selling 1995 release\, The Woman in Me\; Come On Over\, the best-selling studio album in Soundscan history by a female artist in any genre and the best-selling country album of all time with over 40 million units sold worldwide\; and UP!\, Shania's third consecutive Diamond-selling album release. Tickets go on sale Friday\, August 25\, 2017 @ 10 AM. Tickets may be purchased at the Van Andel Arena  and DeVos Place  convention center box offices\, charge by phone: 1.800.745.3000 or on line at Ticketmaster.com. Ticket prices are subject to change.
X-ALT-DESC;FMTTYPE=text/html:Shania Twain hits the road in support of her new album NOW. This is Shania&#39\;s first tour since &quot\;Rock This Country&quot\; back in 2015. Shania is a five-time GRAMMY Award-winner and the reigning Queen of Country Pop. With more than 90 million albums sold worldwide and U.S. sales topping 34.5 million\, Shania remains the top-selling female country artist of all time. Shania&rsquo\;s albums include her Platinum-selling 1993 debut\, Shania Twain\; the GRAMMY Award-winning\, Double Diamond-selling 1995 release\, The Woman in Me\; Come On Over\, the best-selling studio album in Soundscan history by a female artist in any genre and the best-selling country album of all time with over 40 million units sold worldwide\; and UP!\, Shania&rsquo\;s third consecutive Diamond-selling album release. Tickets go on sale Friday\, August 25\, 2017 @ 10 AM. Tickets may be purchased at the Van Andel Arena&reg\; and DeVos Place&reg\; convention center box offices\, charge by phone: 1.800.745.3000 or on line at Ticketmaster.com. Ticket prices are subject to change.
LOCATION:Van Andel Arena
UID:e.2018.661
SEQUENCE:3
DTSTAMP:20260422T155943Z
URL:https://members.westmihcc.org/events/details/shania-twain-661
END:VEVENT

END:VCALENDAR
