BEGIN:VCALENDAR
VERSION:2.0
PRODID:-//ChamberMaster//Event Calendar 2.0//EN
METHOD:PUBLISH
X-PUBLISHED-TTL:P3D
REFRESH-INTERVAL:P3D
CALSCALE:GREGORIAN
BEGIN:VEVENT
DTSTART:20171014T150000Z
DTEND:20171015T200000Z
X-MICROSOFT-CDO-ALLDAYEVENT:FALSE
SUMMARY:Shopping & Lifestyle Expo
DESCRIPTION:Shopping & Lifestyle Expo (NEW) October 14-15\, 2017 Hours: Sat. 11am - 5pm\, Sun. 11am - 4pm DeVos Place - Grand Rapids\, MI www.KohlerExpo.com Indulge yourself and renew your personal style with the latest trends in shopping\, entertainment and relaxation. Be prepared to explore a new interest\, re-ignite your health\, and shop for a great find. Hundreds of exhibits perfect for unique holiday gift ideas for every member of your family!   Health & Wellness   Hair Tools & Products   Dance Lessons   Fashion Clothing & Accessories   Motor Coach Tours & Travel   Mattresses & Pillows   Essential Oils   Body Contouring & Rejuvenation   LulaRoe Mobile Boutique   Fudge\, Candy & Food Samples   Bras & Shapewear   Fitness & Weight Loss   Cabin Rentals   Home D cor & Improvements   Cosmetics & Skincare   Cookware & Culinary   Handbags\, Totes\, Jewelry & Gift Ideas   Shopping and much more! Shopping & Lifestyle Expo is open to the General Public. Hours are Saturday 11am - 5pm and Sunday 11am   4pm. Tickets are available at the door or online at www.kohlerexpo.com. For additional information and discount coupon\, please visit www.kohlerexpo.com. Kohler Expos\, Inc. produces: Fall Bridal Show of West Michigan   September 22-23\, 2017 Shopping & Lifestyle Expo   October 14-15\, 2017 - DeVos Place\, Grand Rapids\, Michigan Winter Bridal Show of West Michigan   January 27\, 2018  DeVos Place\, Grand Rapids\, Michigan Kids and Family Expo   January 27\, 2018   DeVos Place\, Grand Rapids\, Michigan Mid-Michigan Women's Expo   February 2-4\, 2018 - Lansing Center\, Lansing\, Michigan West Michigan Women's Expo   March 9-11\, 2018 - DeVos Place\, Grand Rapids\, Michigan
X-ALT-DESC;FMTTYPE=text/html:Shopping &amp\; Lifestyle Expo (NEW) October 14-15\, 2017 Hours: Sat. 11am - 5pm\, Sun. 11am - 4pm DeVos Place - Grand Rapids\, MI www.KohlerExpo.com Indulge yourself and renew your personal style with the latest trends in shopping\, entertainment and relaxation. Be prepared to explore a new interest\, re-ignite your health\, and shop for a great find. Hundreds of exhibits perfect for unique holiday gift ideas for every member of your family! &bull\; Health &amp\; Wellness &bull\; Hair Tools &amp\; Products &bull\; Dance Lessons &bull\; Fashion Clothing &amp\; Accessories &bull\; Motor Coach Tours &amp\; Travel &bull\; Mattresses &amp\; Pillows &bull\; Essential Oils &bull\; Body Contouring &amp\; Rejuvenation &bull\; LulaRoe Mobile Boutique &bull\; Fudge\, Candy &amp\; Food Samples &bull\; Bras &amp\; Shapewear &bull\; Fitness &amp\; Weight Loss &bull\; Cabin Rentals &bull\; Home D&eacute\;cor &amp\; Improvements &bull\; Cosmetics &amp\; Skincare &bull\; Cookware &amp\; Culinary &bull\; Handbags\, Totes\, Jewelry &amp\; Gift Ideas &bull\; Shopping and much more! Shopping &amp\; Lifestyle Expo is open to the General Public. Hours are Saturday 11am - 5pm and Sunday 11am &ndash\; 4pm. Tickets are available at the door or online at www.kohlerexpo.com. For additional information and discount coupon\, please visit www.kohlerexpo.com. Kohler Expos\, Inc. produces: Fall Bridal Show of West Michigan &ndash\; September 22-23\, 2017 Shopping &amp\; Lifestyle Expo &ndash\; October 14-15\, 2017 - DeVos Place\, Grand Rapids\, Michigan Winter Bridal Show of West Michigan &ndash\; January 27\, 2018&ndash\; DeVos Place\, Grand Rapids\, Michigan Kids and Family Expo &ndash\; January 27\, 2018 &ndash\; DeVos Place\, Grand Rapids\, Michigan Mid-Michigan Women&rsquo\;s Expo &ndash\; February 2-4\, 2018 - Lansing Center\, Lansing\, Michigan West Michigan Women&rsquo\;s Expo &ndash\; March 9-11\, 2018 - DeVos Place\, Grand Rapids\, Michigan
LOCATION:DeVos Place 303 Monroe Ave NW Grand Rapids\, MI 49503
UID:e.2018.618
SEQUENCE:3
DTSTAMP:20260423T050942Z
URL:https://members.westmihcc.org/events/details/shopping-lifestyle-expo-618
END:VEVENT

END:VCALENDAR
