BEGIN:VCALENDAR
VERSION:2.0
PRODID:-//ChamberMaster//Event Calendar 2.0//EN
METHOD:PUBLISH
X-PUBLISHED-TTL:P3D
REFRESH-INTERVAL:P3D
CALSCALE:GREGORIAN
BEGIN:VEVENT
DTSTART:20160621T140000Z
DTEND:20160621T180000Z
X-MICROSOFT-CDO-ALLDAYEVENT:FALSE
SUMMARY:Shred Truck Event - Document Shredding
DESCRIPTION:Free on-site document destruction.
X-ALT-DESC;FMTTYPE=text/html:Free on-site document destruction.
LOCATION:Wyoming Senior Center\, 2380 De Hoop\, Wyoming\, MI
UID:e.2018.394
SEQUENCE:3
DTSTAMP:20260426T035356Z
URL:https://members.westmihcc.org/events/details/shred-truck-event-document-shredding-06-21-2016-394
END:VEVENT

END:VCALENDAR
