BEGIN:VCALENDAR
VERSION:2.0
PRODID:-//ChamberMaster//Event Calendar 2.0//EN
METHOD:PUBLISH
X-PUBLISHED-TTL:P3D
REFRESH-INTERVAL:P3D
CALSCALE:GREGORIAN
BEGIN:VEVENT
DTSTART:20161008T233000Z
DTEND:20161009T023000Z
X-MICROSOFT-CDO-ALLDAYEVENT:FALSE
SUMMARY:SiriusXM Presents I Love the 90’s
DESCRIPTION:SiriusXM Presents I Love the 90's\, Featuring Vanilla Ice\, Salt N Pepa with Spinderella\, Kid N Play\, All 4 One\, Rob Base and Tone Loc The inaugural edition of I Love The '90s Tour invites attendees to reminisce about the trend-setting decade with some of the most iconic\, indelible names in rap\, hip hop and R&B. Audiences can expect to hear chart-topping hits like "Push It\," "Let's Talk About Sex\," "Shoop\," "Ice\, Ice Baby\," "Funky Cold Medina\," "It Takes Two\," "I Swear" and more during a fun-filled night out that doubles as an arena-sized dance party. Line-up subject to change. Tickets go on sale Friday\, June 3rd at 10 AM at the Van Andel Arena and DeVos Place box offices\, Ticketmaster ticket centers\, Ticketmaster.com or charge by phone at 1-800-745-3000.
X-ALT-DESC;FMTTYPE=text/html:SiriusXM Presents I Love the 90&rsquo\;s\, Featuring Vanilla Ice\, Salt N Pepa with Spinderella\, Kid N Play\, All 4 One\, Rob Base and Tone Loc The inaugural edition of I Love The &lsquo\;90s Tour invites attendees to reminisce about the trend-setting decade with some of the most iconic\, indelible names in rap\, hip hop and R&amp\;B. Audiences can expect to hear chart-topping hits like &quot\;Push It\,&quot\; &ldquo\;Let&rsquo\;s Talk About Sex\,&rdquo\; &ldquo\;Shoop\,&rdquo\; &ldquo\;Ice\, Ice Baby\,&rdquo\; &ldquo\;Funky Cold Medina\,&rdquo\; &ldquo\;It Takes Two\,&rdquo\; &quot\;I Swear&quot\; and more during a fun-filled night out that doubles as an arena-sized dance party. Line-up subject to change. Tickets go on sale Friday\, June 3rd at 10 AM at the Van Andel Arena and DeVos Place box offices\, Ticketmaster ticket centers\, Ticketmaster.com or charge by phone at 1-800-745-3000.
LOCATION:Van Andel Arena 130 W Fulton Grand Rapids\, MI 49503
UID:e.2018.407
SEQUENCE:3
DTSTAMP:20260425T213141Z
URL:https://members.westmihcc.org/events/details/siriusxm-presents-i-love-the-90-s-10-08-2016-407
END:VEVENT

END:VCALENDAR
