BEGIN:VCALENDAR
VERSION:2.0
PRODID:-//ChamberMaster//Event Calendar 2.0//EN
METHOD:PUBLISH
X-PUBLISHED-TTL:P3D
REFRESH-INTERVAL:P3D
CALSCALE:GREGORIAN
BEGIN:VEVENT
DTSTART:20190205T230000Z
DTEND:20190206T020000Z
X-MICROSOFT-CDO-ALLDAYEVENT:FALSE
SUMMARY:Small Business GPS: Business Basics
DESCRIPTION:Learn about business basics in this 3-part series. You only need to register one time for the cluster. One registration pays for all three classes in the GPS series. Please register for the first class in this cluster.
X-ALT-DESC;FMTTYPE=text/html:Learn about business basics in this 3-part series. You only need to register one time for the cluster. One registration pays for all three classes in the GPS series. Please register for the first class in this cluster.
LOCATION:
UID:e.2018.1109
SEQUENCE:3
DTSTAMP:20260420T080213Z
URL:https://members.westmihcc.org/events/details/small-business-gps-business-basics-02-05-2019-1109
END:VEVENT

END:VCALENDAR
