BEGIN:VCALENDAR
VERSION:2.0
PRODID:-//ChamberMaster//Event Calendar 2.0//EN
METHOD:PUBLISH
X-PUBLISHED-TTL:P3D
REFRESH-INTERVAL:P3D
CALSCALE:GREGORIAN
BEGIN:VEVENT
DTSTART:20200303T230000Z
DTEND:20200304T020000Z
X-MICROSOFT-CDO-ALLDAYEVENT:FALSE
SUMMARY:Small Business GPS: Business Basics
DESCRIPTION:Small Business Growth and Planning Series (Small Business GPS) is designed to provide participants with the information and resources to write or refine their business plan. 1) Strategic Planning\, March 3\, 6-9pm 2) Legal Rules Every Business Needs to Understand\, March 10\, 6-9pm 3) Successful Relationship Building\, March 17\, 6-9pm
X-ALT-DESC;FMTTYPE=text/html:Small Business Growth and Planning Series (Small Business GPS) is designed to provide participants with the information and resources to write or refine their business plan. 1) Strategic Planning\, March 3\, 6-9pm 2) Legal Rules Every Business Needs to Understand\, March 10\, 6-9pm 3) Successful Relationship Building\, March 17\, 6-9pm
LOCATION:GROW
UID:e.2018.1469
SEQUENCE:3
DTSTAMP:20260419T123528Z
URL:https://members.westmihcc.org/events/details/small-business-gps-business-basics-03-03-2020-1469
END:VEVENT

END:VCALENDAR
