BEGIN:VCALENDAR
VERSION:2.0
PRODID:-//ChamberMaster//Event Calendar 2.0//EN
METHOD:PUBLISH
X-PUBLISHED-TTL:P3D
REFRESH-INTERVAL:P3D
CALSCALE:GREGORIAN
BEGIN:VEVENT
DTSTART:20181009T220000Z
DTEND:20181010T010000Z
X-MICROSOFT-CDO-ALLDAYEVENT:FALSE
SUMMARY:Small Business GPS: Business Basics
DESCRIPTION:You only need to register one time for the cluster. One registration pays for all three classes in the GPS series. Please register for the first class in this cluster.
X-ALT-DESC;FMTTYPE=text/html:You only need to register one time for the cluster. One registration pays for all three classes in the GPS series. Please register for the first class in this cluster.
LOCATION:
UID:e.2018.944
SEQUENCE:3
DTSTAMP:20260422T122702Z
URL:https://members.westmihcc.org/events/details/small-business-gps-business-basics-10-09-2018-944
END:VEVENT

END:VCALENDAR
