BEGIN:VCALENDAR
VERSION:2.0
PRODID:-//ChamberMaster//Event Calendar 2.0//EN
METHOD:PUBLISH
X-PUBLISHED-TTL:P3D
REFRESH-INTERVAL:P3D
CALSCALE:GREGORIAN
BEGIN:VEVENT
DTSTART:20191105T230000Z
DTEND:20191106T020000Z
X-MICROSOFT-CDO-ALLDAYEVENT:FALSE
SUMMARY:Small Business GPS: Business Basics
DESCRIPTION:1) Strategic Planning\, November 5 Time: 6:00 - 9:00 pm 2) Legal Rules Every Business Needs to Understand\, November 12 Time: 6:00 - 9:00 pm 3) Successful Relationship Building\, November 19 Time: 6:00 - 9:00 pm
X-ALT-DESC;FMTTYPE=text/html:1) Strategic Planning\, November 5 Time: 6:00 - 9:00 pm 2) Legal Rules Every Business Needs to Understand\, November 12 Time: 6:00 - 9:00 pm 3) Successful Relationship Building\, November 19 Time: 6:00 - 9:00 pm
LOCATION:GROW
UID:e.2018.1358
SEQUENCE:3
DTSTAMP:20260419T183027Z
URL:https://members.westmihcc.org/events/details/small-business-gps-business-basics-11-05-2019-1358
END:VEVENT

END:VCALENDAR
