BEGIN:VCALENDAR
VERSION:2.0
PRODID:-//ChamberMaster//Event Calendar 2.0//EN
METHOD:PUBLISH
X-PUBLISHED-TTL:P3D
REFRESH-INTERVAL:P3D
CALSCALE:GREGORIAN
BEGIN:VEVENT
DTSTART:20180109T230000Z
DTEND:20180110T020000Z
X-MICROSOFT-CDO-ALLDAYEVENT:FALSE
SUMMARY:Small Business GPS: Business Basics
DESCRIPTION:Small Business Growth and Planning Series (Small Business GPS) is designed to provide participants the information and resources to write or refine their business plan. 1) Strategic Planning\, January 9 Time: 6:00 - 9:00 pm 2) Choosing Your Business Structure\, January 16 Time: 6:00 - 9:00 pm 3) Successful Relationship Building\, January 23 Time: 6:00 - 9:00 pm
X-ALT-DESC;FMTTYPE=text/html:Small Business Growth and Planning Series (Small Business GPS) is designed to provide participants the information and resources to write or refine their business plan. 1) Strategic Planning\, January 9 Time: 6:00 - 9:00 pm 2) Choosing Your Business Structure\, January 16 Time: 6:00 - 9:00 pm 3) Successful Relationship Building\, January 23 Time: 6:00 - 9:00 pm
LOCATION:
UID:e.2018.729
SEQUENCE:3
DTSTAMP:20260423T004656Z
URL:https://members.westmihcc.org/events/details/small-business-gps-business-basics-729
END:VEVENT

END:VCALENDAR
