BEGIN:VCALENDAR
VERSION:2.0
PRODID:-//ChamberMaster//Event Calendar 2.0//EN
METHOD:PUBLISH
X-PUBLISHED-TTL:P3D
REFRESH-INTERVAL:P3D
CALSCALE:GREGORIAN
BEGIN:VEVENT
DTSTART:20170606T220000Z
DTEND:20170607T010000Z
X-MICROSOFT-CDO-ALLDAYEVENT:FALSE
SUMMARY:Small Business GPS: Business Basics Part 1
DESCRIPTION:Expand your blueprint for your business by identifying the values of your organization and creating a mission and vision statement. Learn how to set goals and position your business for success.
X-ALT-DESC;FMTTYPE=text/html:Expand your blueprint for your business by identifying the values of your organization and creating a mission and vision statement. Learn how to set goals and position your business for success.
LOCATION:GROW
UID:e.2018.596
SEQUENCE:3
DTSTAMP:20260423T105254Z
URL:https://members.westmihcc.org/events/details/small-business-gps-business-basics-part-1-06-06-2017-596
END:VEVENT

END:VCALENDAR
