BEGIN:VCALENDAR
VERSION:2.0
PRODID:-//ChamberMaster//Event Calendar 2.0//EN
METHOD:PUBLISH
X-PUBLISHED-TTL:P3D
REFRESH-INTERVAL:P3D
CALSCALE:GREGORIAN
BEGIN:VEVENT
DTSTART:20180710T220000Z
DTEND:20180711T010000Z
X-MICROSOFT-CDO-ALLDAYEVENT:FALSE
SUMMARY:Small Business GPS: Business Basics Part 1
DESCRIPTION:1) Strategic Planning\, July 10 Time: 6:00 - 9:00 pm 2) Choosing Your Business Structure\, July 17 Time: 6:00 - 9:00 pm 3) Successful Relationship Building\, July 24 Time: 6:00 - 9:00 pm
X-ALT-DESC;FMTTYPE=text/html:1) Strategic Planning\, July 10 Time: 6:00 - 9:00 pm 2) Choosing Your Business Structure\, July 17 Time: 6:00 - 9:00 pm 3) Successful Relationship Building\, July 24 Time: 6:00 - 9:00 pm
LOCATION:GROW
UID:e.2018.882
SEQUENCE:3
DTSTAMP:20260422T160221Z
URL:https://members.westmihcc.org/events/details/small-business-gps-business-basics-part-1-07-10-2018-882
END:VEVENT

END:VCALENDAR
