BEGIN:VCALENDAR
VERSION:2.0
PRODID:-//ChamberMaster//Event Calendar 2.0//EN
METHOD:PUBLISH
X-PUBLISHED-TTL:P3D
REFRESH-INTERVAL:P3D
CALSCALE:GREGORIAN
BEGIN:VEVENT
DTSTART:20161108T230000Z
DTEND:20161109T020000Z
X-MICROSOFT-CDO-ALLDAYEVENT:FALSE
SUMMARY:Small Business GPS - Business Basics Part 2
DESCRIPTION:Which legal structure is right for your business? When you're starting a business\, the options seem overwhelming. Explore the tax and legal implications of each option\, find the one that is best suited for your business\, and learn what the next steps are.
X-ALT-DESC;FMTTYPE=text/html:Which legal structure is right for your business? When you&#39\;re starting a business\, the options seem overwhelming. Explore the tax and legal implications of each option\, find the one that is best suited for your business\, and learn what the next steps are.
LOCATION:Grand Rapids Opportunities for Women
UID:e.2018.503
SEQUENCE:3
DTSTAMP:20260425T212800Z
URL:https://members.westmihcc.org/events/details/small-business-gps-business-basics-part-2-503
END:VEVENT

END:VCALENDAR
