BEGIN:VCALENDAR
VERSION:2.0
PRODID:-//ChamberMaster//Event Calendar 2.0//EN
METHOD:PUBLISH
X-PUBLISHED-TTL:P3D
REFRESH-INTERVAL:P3D
CALSCALE:GREGORIAN
BEGIN:VEVENT
DTSTART:20161115T230000Z
DTEND:20161116T020000Z
X-MICROSOFT-CDO-ALLDAYEVENT:FALSE
SUMMARY:Small Business GPS - Business Basics Part 3
DESCRIPTION:Your business success depends largely on relationship building\, but that requires intentionality\, time\, and confidence. Learn how to develop a relationship-building plan that will increase your network\, your confidence\, and your audience.
X-ALT-DESC;FMTTYPE=text/html:Your business success depends largely on relationship building\, but that requires intentionality\, time\, and confidence. Learn how to develop a relationship-building plan that will increase your network\, your confidence\, and your audience.
LOCATION:Grand Rapids Opportunities for Women
UID:e.2018.505
SEQUENCE:3
DTSTAMP:20260425T200425Z
URL:https://members.westmihcc.org/events/details/small-business-gps-business-basics-part-3-505
END:VEVENT

END:VCALENDAR
