BEGIN:VCALENDAR
VERSION:2.0
PRODID:-//ChamberMaster//Event Calendar 2.0//EN
METHOD:PUBLISH
X-PUBLISHED-TTL:P3D
REFRESH-INTERVAL:P3D
CALSCALE:GREGORIAN
BEGIN:VEVENT
DTSTART:20200204T230000Z
DTEND:20200205T020000Z
X-MICROSOFT-CDO-ALLDAYEVENT:FALSE
SUMMARY:Small Business GPS: Financial Awareness
DESCRIPTION:Small Business Growth and Planning Series (Small Business GPS) is designed to provide participants with the information and resources to write or refine their business plan. 1) Financial Strategies for Your Personal and Business Finances\, February 4 Time: 6:00   9:00 pm 2) Financial Reporting and Analysis: How to Run Your Business by the Numbers\, February 11 Time: 6:00   9:00 pm 3) Navigating Business Banking\, February 18 Time: 6:00   9:00 pm
X-ALT-DESC;FMTTYPE=text/html:Small Business Growth and Planning Series (Small Business GPS) is designed to provide participants with the information and resources to write or refine their business plan. 1) Financial Strategies for Your Personal and Business Finances\, February 4 Time: 6:00 &ndash\; 9:00 pm 2) Financial Reporting and Analysis: How to Run Your Business by the Numbers\, February 11 Time: 6:00 &ndash\; 9:00 pm 3) Navigating Business Banking\, February 18 Time: 6:00 &ndash\; 9:00 pm
LOCATION:
UID:e.2018.1433
SEQUENCE:3
DTSTAMP:20260419T140454Z
URL:https://members.westmihcc.org/events/details/small-business-gps-financial-awareness-02-04-2020-1433
END:VEVENT

END:VCALENDAR
