BEGIN:VCALENDAR
VERSION:2.0
PRODID:-//ChamberMaster//Event Calendar 2.0//EN
METHOD:PUBLISH
X-PUBLISHED-TTL:P3D
REFRESH-INTERVAL:P3D
CALSCALE:GREGORIAN
BEGIN:VEVENT
DTSTART:20191001T220000Z
DTEND:20191002T010000Z
X-MICROSOFT-CDO-ALLDAYEVENT:FALSE
SUMMARY:Small Business GPS: Financial Awareness
DESCRIPTION:Part 1: Financial Strategies for Your Personal and Business Finances Part 2: Financial Reporting and Analysis: How to Run Your Business by the Numbers Part 3: Navigating Business Banking
X-ALT-DESC;FMTTYPE=text/html:Part 1: Financial Strategies for Your Personal and Business Finances Part 2: Financial Reporting and Analysis: How to Run Your Business by the Numbers Part 3: Navigating Business Banking
LOCATION:GROW
UID:e.2018.1343
SEQUENCE:3
DTSTAMP:20260419T212507Z
URL:https://members.westmihcc.org/events/details/small-business-gps-financial-awareness-1343
END:VEVENT

END:VCALENDAR
