BEGIN:VCALENDAR
VERSION:2.0
PRODID:-//ChamberMaster//Event Calendar 2.0//EN
METHOD:PUBLISH
X-PUBLISHED-TTL:P3D
REFRESH-INTERVAL:P3D
CALSCALE:GREGORIAN
BEGIN:VEVENT
DTSTART:20180605T220000Z
DTEND:20180606T010000Z
X-MICROSOFT-CDO-ALLDAYEVENT:FALSE
SUMMARY:Small Business GPS: Financial Awareness Part 1
DESCRIPTION:1) Financial Strategies for your Personal and Business Finances\, June 5th Time: 6:00 - 9:00 pm Facilitator: Sonali Allen\, Senior VP\, Compliance & Community Development Officer at Mercantile Bank of Michigan 2) Financial Reporting and Analysis: How to Run Your Business by the Numbers\, June 12th Time: 6:00 - 9:00 pm Facilitator: Bill Evans 3) Navigating Business Banking\, June 19th Time: 6:00 - 9:00 pm Facilitator: Jack Keller\, Commercial Lender at Lake Michigan Credit Union
X-ALT-DESC;FMTTYPE=text/html:1) Financial Strategies for your Personal and Business Finances\, June 5th Time: 6:00 - 9:00 pm Facilitator: Sonali Allen\, Senior VP\, Compliance &amp\; Community Development Officer at Mercantile Bank of Michigan 2) Financial Reporting and Analysis: How to Run Your Business by the Numbers\, June 12th Time: 6:00 - 9:00 pm Facilitator: Bill Evans 3) Navigating Business Banking\, June 19th Time: 6:00 - 9:00 pm Facilitator: Jack Keller\, Commercial Lender at Lake Michigan Credit Union
LOCATION:
UID:e.2018.842
SEQUENCE:3
DTSTAMP:20260422T172239Z
URL:https://members.westmihcc.org/events/details/small-business-gps-financial-awareness-part-1-06-05-2018-842
END:VEVENT

END:VCALENDAR
