BEGIN:VCALENDAR
VERSION:2.0
PRODID:-//ChamberMaster//Event Calendar 2.0//EN
METHOD:PUBLISH
X-PUBLISHED-TTL:P3D
REFRESH-INTERVAL:P3D
CALSCALE:GREGORIAN
BEGIN:VEVENT
DTSTART:20190709T220000Z
DTEND:20190710T010000Z
X-MICROSOFT-CDO-ALLDAYEVENT:FALSE
SUMMARY:Small Business GPS: Financial Awareness Part 1
DESCRIPTION:Small Business Growth and Planning Series (Small Business GPS) is designed to provide participants with the information and resources to write or refine their business plan. 1) Financial Strategies for Your Personal and Business Finances\, July 9 2) Financial Reporting and Analysis: How to Run Your Business by the Numbers\, July 16 3) Navigating Business Banking\, July 23
X-ALT-DESC;FMTTYPE=text/html:Small Business Growth and Planning Series (Small Business GPS) is designed to provide participants with the information and resources to write or refine their business plan. 1) Financial Strategies for Your Personal and Business Finances\, July 9 2) Financial Reporting and Analysis: How to Run Your Business by the Numbers\, July 16 3) Navigating Business Banking\, July 23
LOCATION:GROW
UID:e.2018.1248
SEQUENCE:3
DTSTAMP:20260420T004325Z
URL:https://members.westmihcc.org/events/details/small-business-gps-financial-awareness-part-1-07-09-2019-1248
END:VEVENT

END:VCALENDAR
