BEGIN:VCALENDAR
VERSION:2.0
PRODID:-//ChamberMaster//Event Calendar 2.0//EN
METHOD:PUBLISH
X-PUBLISHED-TTL:P3D
REFRESH-INTERVAL:P3D
CALSCALE:GREGORIAN
BEGIN:VEVENT
DTSTART:20170808T220000Z
DTEND:20170809T010000Z
X-MICROSOFT-CDO-ALLDAYEVENT:FALSE
SUMMARY:Small Business GPS: Financial Awareness Part 1
DESCRIPTION:1) Financial Strategies for your Personal and Business Finances\, August 8 Time: 6:00 - 9:00 pm 2) Financial Reporting and Analysis: How to Run Your Business by the Numbers\, August 15 Time: 6:00 - 9:00 pm 3) Navigating Business Banking\, August 22 Time: 6:00 - 9:00 pm
X-ALT-DESC;FMTTYPE=text/html:1) Financial Strategies for your Personal and Business Finances\, August 8 Time: 6:00 - 9:00 pm 2) Financial Reporting and Analysis: How to Run Your Business by the Numbers\, August 15 Time: 6:00 - 9:00 pm 3) Navigating Business Banking\, August 22 Time: 6:00 - 9:00 pm
LOCATION:
UID:e.2018.635
SEQUENCE:3
DTSTAMP:20260423T092831Z
URL:https://members.westmihcc.org/events/details/small-business-gps-financial-awareness-part-1-08-08-2017-635
END:VEVENT

END:VCALENDAR
