BEGIN:VCALENDAR
VERSION:2.0
PRODID:-//ChamberMaster//Event Calendar 2.0//EN
METHOD:PUBLISH
X-PUBLISHED-TTL:P3D
REFRESH-INTERVAL:P3D
CALSCALE:GREGORIAN
BEGIN:VEVENT
DTSTART:20170516T220000Z
DTEND:20170517T010000Z
X-MICROSOFT-CDO-ALLDAYEVENT:FALSE
SUMMARY:Small Business GPS: Financial Awareness Part 2
DESCRIPTION:Understanding the financial side of your business can help you with effective strategy development\, decision-making\, and results analysis. Learn how to read and interpret your core financial statements to position your business for long-term success.
X-ALT-DESC;FMTTYPE=text/html:Understanding the financial side of your business can help you with effective strategy development\, decision-making\, and results analysis. Learn how to read and interpret your core financial statements to position your business for long-term success.
LOCATION:
UID:e.2018.575
SEQUENCE:3
DTSTAMP:20260425T120506Z
URL:https://members.westmihcc.org/events/details/small-business-gps-financial-awareness-part-2-05-16-2017-575
END:VEVENT

END:VCALENDAR
