BEGIN:VCALENDAR
VERSION:2.0
PRODID:-//ChamberMaster//Event Calendar 2.0//EN
METHOD:PUBLISH
X-PUBLISHED-TTL:P3D
REFRESH-INTERVAL:P3D
CALSCALE:GREGORIAN
BEGIN:VEVENT
DTSTART:20170523T220000Z
DTEND:20170524T010000Z
X-MICROSOFT-CDO-ALLDAYEVENT:FALSE
SUMMARY:Small Business GPS: Financial Awareness Part 3
DESCRIPTION:Opening a business account is just the first step in developing a relationship with your bank. Learn what financial institutions can do for your business and what you need to know when choosing a bank.
X-ALT-DESC;FMTTYPE=text/html:Opening a business account is just the first step in developing a relationship with your bank. Learn what financial institutions can do for your business and what you need to know when choosing a bank.
LOCATION:
UID:e.2018.578
SEQUENCE:3
DTSTAMP:20260425T120502Z
URL:https://members.westmihcc.org/events/details/small-business-gps-financial-awareness-part-3-05-23-2017-578
END:VEVENT

END:VCALENDAR
