BEGIN:VCALENDAR
VERSION:2.0
PRODID:-//ChamberMaster//Event Calendar 2.0//EN
METHOD:PUBLISH
X-PUBLISHED-TTL:P3D
REFRESH-INTERVAL:P3D
CALSCALE:GREGORIAN
BEGIN:VEVENT
DTSTART:20190305T230000Z
DTEND:20190306T020000Z
X-MICROSOFT-CDO-ALLDAYEVENT:FALSE
SUMMARY:Small Business GPS: Marketing Strategies
DESCRIPTION:Small Business Growth and Planning Series (Small Business GPS) is designed to provide participants the information and resources to write or refine their business plan.
X-ALT-DESC;FMTTYPE=text/html:Small Business Growth and Planning Series (Small Business GPS) is designed to provide participants the information and resources to write or refine their business plan.
LOCATION:
UID:e.2018.1120
SEQUENCE:3
DTSTAMP:20260420T063613Z
URL:https://members.westmihcc.org/events/details/small-business-gps-marketing-strategies-03-05-2019-1120
END:VEVENT

END:VCALENDAR
