BEGIN:VCALENDAR
VERSION:2.0
PRODID:-//ChamberMaster//Event Calendar 2.0//EN
METHOD:PUBLISH
X-PUBLISHED-TTL:P3D
REFRESH-INTERVAL:P3D
CALSCALE:GREGORIAN
BEGIN:VEVENT
DTSTART:20190604T220000Z
DTEND:20190605T010000Z
X-MICROSOFT-CDO-ALLDAYEVENT:FALSE
SUMMARY:Small Business GPS: Marketing Strategies
DESCRIPTION:Small Business Growth and Planning Series (Small Business GPS) is designed to provide participants the information and resources to write or refine their business plan. Marketing 101\, June 4 Branding and Selling Your Value Proposition\, June 11 Marketing Your Business Online\, June 18
X-ALT-DESC;FMTTYPE=text/html:Small Business Growth and Planning Series (Small Business GPS) is designed to provide participants the information and resources to write or refine their business plan. Marketing 101\, June 4 Branding and Selling Your Value Proposition\, June 11 Marketing Your Business Online\, June 18
LOCATION:
UID:e.2018.1191
SEQUENCE:3
DTSTAMP:20260420T020352Z
URL:https://members.westmihcc.org/events/details/small-business-gps-marketing-strategies-06-04-2019-1191
END:VEVENT

END:VCALENDAR
