BEGIN:VCALENDAR
VERSION:2.0
PRODID:-//ChamberMaster//Event Calendar 2.0//EN
METHOD:PUBLISH
X-PUBLISHED-TTL:P3D
REFRESH-INTERVAL:P3D
CALSCALE:GREGORIAN
BEGIN:VEVENT
DTSTART:20171010T220000Z
DTEND:20171011T010000Z
X-MICROSOFT-CDO-ALLDAYEVENT:FALSE
SUMMARY:Small Business GPS: Marketing Strategies
DESCRIPTION:1) Marketing 101\, October 10 Time: 6:00 - 9:00 pm Are you marketing your business effectively? Discover how to use your organization's value proposition to target potential customers and develop a successful marketing campaign. 2) Branding and Selling Your Value Proposition\, October 17 Time: 6:00 - 9:00 pm Does your business have a defined brand? Are you effectively bringing your value proposition to the market? This workshop guides you through the process of creating a brand for your business and using that brand to successfully sell your product or service. 3) Marketing Your Business Online\, October 24 Time: 6:00 - 9:00 pm Effective online marketing involves so much more than just having an engaging website. Discover the online marketing options available to your business and decide which ones will best help you connect with your customers. Learn how to set marketing objectives\, develop a social media calendar\, and use metrics to track success.
X-ALT-DESC;FMTTYPE=text/html:1) Marketing 101\, October 10 Time: 6:00 - 9:00 pm Are you marketing your business effectively? Discover how to use your organization&#39\;s value proposition to target potential customers and develop a successful marketing campaign. 2) Branding and Selling Your Value Proposition\, October 17 Time: 6:00 - 9:00 pm Does your business have a defined brand? Are you effectively bringing your value proposition to the market? This workshop guides you through the process of creating a brand for your business and using that brand to successfully sell your product or service. 3) Marketing Your Business Online\, October 24 Time: 6:00 - 9:00 pm Effective online marketing involves so much more than just having an engaging website. Discover the online marketing options available to your business and decide which ones will best help you connect with your customers. Learn how to set marketing objectives\, develop a social media calendar\, and use metrics to track success.
LOCATION:
UID:e.2018.653
SEQUENCE:3
DTSTAMP:20260423T051503Z
URL:https://members.westmihcc.org/events/details/small-business-gps-marketing-strategies-10-10-2017-653
END:VEVENT

END:VCALENDAR
