BEGIN:VCALENDAR
VERSION:2.0
PRODID:-//ChamberMaster//Event Calendar 2.0//EN
METHOD:PUBLISH
X-PUBLISHED-TTL:P3D
REFRESH-INTERVAL:P3D
CALSCALE:GREGORIAN
BEGIN:VEVENT
DTSTART:20181106T230000Z
DTEND:20181107T020000Z
X-MICROSOFT-CDO-ALLDAYEVENT:FALSE
SUMMARY:Small Business GPS: Marketing Strategies
DESCRIPTION:Small Business Growth and Planning Series (Small Business GPS) is designed to provide participants the information and resources to write or refine their business plan. 1) Marketing 101\, November 6 Time: 6:00 - 9:00 pm 2) Branding and Selling Your Value Proposition\, November 13 Time: 6:00 - 9:00 pm 3) Marketing Your Business Online\, November 20 Time: 6:00 - 9:00 pm
X-ALT-DESC;FMTTYPE=text/html:Small Business Growth and Planning Series (Small Business GPS) is designed to provide participants the information and resources to write or refine their business plan. 1) Marketing 101\, November 6 Time: 6:00 - 9:00 pm 2) Branding and Selling Your Value Proposition\, November 13 Time: 6:00 - 9:00 pm 3) Marketing Your Business Online\, November 20 Time: 6:00 - 9:00 pm
LOCATION:
UID:e.2018.952
SEQUENCE:3
DTSTAMP:20260422T111230Z
URL:https://members.westmihcc.org/events/details/small-business-gps-marketing-strategies-11-06-2018-952
END:VEVENT

END:VCALENDAR
