BEGIN:VCALENDAR
VERSION:2.0
PRODID:-//ChamberMaster//Event Calendar 2.0//EN
METHOD:PUBLISH
X-PUBLISHED-TTL:P3D
REFRESH-INTERVAL:P3D
CALSCALE:GREGORIAN
BEGIN:VEVENT
DTSTART:20180807T220000Z
DTEND:20180808T010000Z
X-MICROSOFT-CDO-ALLDAYEVENT:FALSE
SUMMARY:Small Business GPS: Marketing Strategies Part 1
DESCRIPTION:1) Marketing 101\, August 7 Are you marketing your business effectively? Discover how to use your organization's value proposition to target potential customers and develop a successful marketing campaign. 2) Branding and Selling Your Value Proposition\, August 14 Does your business have a defined brand? Are you effectively bringing your value proposition to the market? This workshop guides you through the process of creating a brand for your business and using that brand to successfully sell your product or service. 3) Marketing Your Business Online\, August 21 Effective online marketing involves so much more than just having an engaging website. Discover the online marketing options available to your business and decide which ones will best help you connect with your customers. Learn how to set marketing objectives\, develop a social media calendar\, and use metrics to track success.
X-ALT-DESC;FMTTYPE=text/html:1) Marketing 101\, August 7 Are you marketing your business effectively? Discover how to use your organization&#39\;s value proposition to target potential customers and develop a successful marketing campaign. 2) Branding and Selling Your Value Proposition\, August 14 Does your business have a defined brand? Are you effectively bringing your value proposition to the market? This workshop guides you through the process of creating a brand for your business and using that brand to successfully sell your product or service. 3) Marketing Your Business Online\, August 21 Effective online marketing involves so much more than just having an engaging website. Discover the online marketing options available to your business and decide which ones will best help you connect with your customers. Learn how to set marketing objectives\, develop a social media calendar\, and use metrics to track success.
LOCATION:
UID:e.2018.900
SEQUENCE:3
DTSTAMP:20260422T145523Z
URL:https://members.westmihcc.org/events/details/small-business-gps-marketing-strategies-part-1-08-07-2018-900
END:VEVENT

END:VCALENDAR
