BEGIN:VCALENDAR
VERSION:2.0
PRODID:-//ChamberMaster//Event Calendar 2.0//EN
METHOD:PUBLISH
X-PUBLISHED-TTL:P3D
REFRESH-INTERVAL:P3D
CALSCALE:GREGORIAN
BEGIN:VEVENT
DTSTART:20170411T220000Z
DTEND:20170412T010000Z
X-MICROSOFT-CDO-ALLDAYEVENT:FALSE
SUMMARY:Small Business GPS: Marketing Strategies Part 1
DESCRIPTION:Are you marketing your business effectively? Discover how to use your organization's value proposition to target potential customers and develop a successful marketing campaign.
X-ALT-DESC;FMTTYPE=text/html:Are you marketing your business effectively? Discover how to use your organization&#39\;s value proposition to target potential customers and develop a successful marketing campaign.
LOCATION:GROW
UID:e.2018.565
SEQUENCE:3
DTSTAMP:20260425T132616Z
URL:https://members.westmihcc.org/events/details/small-business-gps-marketing-strategies-part-1-565
END:VEVENT

END:VCALENDAR
