BEGIN:VCALENDAR
VERSION:2.0
PRODID:-//ChamberMaster//Event Calendar 2.0//EN
METHOD:PUBLISH
X-PUBLISHED-TTL:P3D
REFRESH-INTERVAL:P3D
CALSCALE:GREGORIAN
BEGIN:VEVENT
DTSTART:20170425T220000Z
DTEND:20170426T010000Z
X-MICROSOFT-CDO-ALLDAYEVENT:FALSE
SUMMARY:Small Business GPS: Marketing Strategies Part 3
DESCRIPTION:Effective online marketing involves so much more than just having an engaging website. Discover the online marketing options available to your business and decide which ones will best help you connect with your customers. Learn how to set marketing objectives\, develop a social media calendar\, and use metrics to track success.
X-ALT-DESC;FMTTYPE=text/html:Effective online marketing involves so much more than just having an engaging website. Discover the online marketing options available to your business and decide which ones will best help you connect with your customers. Learn how to set marketing objectives\, develop a social media calendar\, and use metrics to track success.
LOCATION:
UID:e.2018.570
SEQUENCE:3
DTSTAMP:20260425T132723Z
URL:https://members.westmihcc.org/events/details/small-business-gps-marketing-strategies-part-3-570
END:VEVENT

END:VCALENDAR
