BEGIN:VCALENDAR
VERSION:2.0
PRODID:-//ChamberMaster//Event Calendar 2.0//EN
METHOD:PUBLISH
X-PUBLISHED-TTL:P3D
REFRESH-INTERVAL:P3D
CALSCALE:GREGORIAN
BEGIN:VEVENT
DTSTART:20240502T160000Z
DTEND:20240502T200000Z
X-MICROSOFT-CDO-ALLDAYEVENT:FALSE
SUMMARY:Small Business Resource & Financing Fair - In-Person
DESCRIPTION:At this open-house-styled event\, you can engage with over 50 business support organizations and financial institutions. These agencies can help you with funding options\, market research\, business planning\, networking\, sales & marketing\, social media\, business certifications\, contracting opportunities\, energy assessments\, and much more! Our goal is to help you (the time-limited entrepreneur) get direct access to the people you need to know to be successful. We will also be offering On-site Consultants\, 3 mini-workshops and a free business guide Learn more about this event here: https://michigansbdc.org/resourcefair/
X-ALT-DESC;FMTTYPE=text/html:At this open-house-styled event\, you can engage with&nbsp\;over 50 business support organizations and financial institutions.&nbsp\;These agencies can help you with funding options\, market research\, business planning\, networking\, sales &amp\; marketing\, social media\, business certifications\, contracting opportunities\, energy assessments\, and much more! Our goal is to help you (the time-limited entrepreneur)&nbsp\;get direct access to the people you need to know to be successful. We will also be offering&nbsp\;On-site Consultants\, 3 mini-workshops and a free business guide Learn more about this event here: https://michigansbdc.org/resourcefair/
LOCATION:818 Butterworth St SW\, Grand Rapids\, MI\, 49504
UID:e.2018.3055
SEQUENCE:3
DTSTAMP:20260419T123529Z
URL:https://members.westmihcc.org/events/details/small-business-resource-financing-fair-in-person-3055
END:VEVENT

END:VCALENDAR
