BEGIN:VCALENDAR
VERSION:2.0
PRODID:-//ChamberMaster//Event Calendar 2.0//EN
METHOD:PUBLISH
X-PUBLISHED-TTL:P3D
REFRESH-INTERVAL:P3D
CALSCALE:GREGORIAN
BEGIN:VEVENT
DTSTART:20190429T120000Z
DTEND:20190429T214500Z
X-MICROSOFT-CDO-ALLDAYEVENT:FALSE
SUMMARY:Small Business Summit 2019
DESCRIPTION:If you dream of launching a business or currently own a business\, we are offering a full day of interactive workshops\, mentoring and networking opportunities to fuel your success! Local experts will present workshops on a variety of topics and you may customize your learning track. Join us for breakfast\, lunch\, in-depth learning and networking.
X-ALT-DESC;FMTTYPE=text/html:If you dream of launching a business or currently own a business\, we are offering a full day of interactive workshops\, mentoring and networking opportunities to fuel your success! Local experts will present workshops on a variety of topics and you may customize your learning track. Join us for breakfast\, lunch\, in-depth learning and networking.
LOCATION:GVSU Seidman Center
UID:e.2018.1171
SEQUENCE:3
DTSTAMP:20260420T045946Z
URL:https://members.westmihcc.org/events/details/small-business-summit-2019-1171
END:VEVENT

END:VCALENDAR
