BEGIN:VCALENDAR
VERSION:2.0
PRODID:-//ChamberMaster//Event Calendar 2.0//EN
METHOD:PUBLISH
X-PUBLISHED-TTL:P3D
REFRESH-INTERVAL:P3D
CALSCALE:GREGORIAN
BEGIN:VEVENT
DTSTART:20170221T160000Z
DTEND:20170221T170000Z
X-MICROSOFT-CDO-ALLDAYEVENT:FALSE
SUMMARY:Smart Principles of Marketing Messaging
DESCRIPTION:Learn the smart - and not-so-smart - principles of marketing messaging. We will study examples of how mainstream companies message their brands and talk about why they do what they do\, what worked\, what did not\, and how to apply these principles to your own business. This webinar is designed for people who want to learn practical principles of marketing to apply to their own businesses by seeing examples. No cost. To register\, please go to https://clients.sbdcmichigan.org/workshop.aspx?ekey=1370002 or call our office at 616-331-7370.
X-ALT-DESC;FMTTYPE=text/html:Learn the smart - and not-so-smart - principles of marketing messaging. We will study examples of how mainstream companies message their brands and talk about why they do what they do\, what worked\, what did not\, and how to apply these principles to your own business. This webinar is designed for people who want to learn practical principles of marketing to apply to their own businesses by seeing examples. No cost. To register\, please go to https://clients.sbdcmichigan.org/workshop.aspx?ekey=1370002 or call our office at 616-331-7370.
LOCATION:Online (webinar)
UID:e.2018.543
SEQUENCE:3
DTSTAMP:20260425T160558Z
URL:https://members.westmihcc.org/events/details/smart-principles-of-marketing-messaging-543
END:VEVENT

END:VCALENDAR
