BEGIN:VCALENDAR
VERSION:2.0
PRODID:-//ChamberMaster//Event Calendar 2.0//EN
METHOD:PUBLISH
X-PUBLISHED-TTL:P3D
REFRESH-INTERVAL:P3D
CALSCALE:GREGORIAN
BEGIN:VEVENT
DTSTART:20190510T153000Z
DTEND:20190510T170000Z
X-MICROSOFT-CDO-ALLDAYEVENT:FALSE
SUMMARY:So You Think You Can Dance
DESCRIPTION:
X-ALT-DESC;FMTTYPE=text/html:
LOCATION:Grandville Banquet Center
UID:e.2018.1214
SEQUENCE:3
DTSTAMP:20260420T032822Z
URL:https://members.westmihcc.org/events/details/so-you-think-you-can-dance-1214
END:VEVENT

END:VCALENDAR
