BEGIN:VCALENDAR
VERSION:2.0
PRODID:-//ChamberMaster//Event Calendar 2.0//EN
METHOD:PUBLISH
X-PUBLISHED-TTL:P3D
REFRESH-INTERVAL:P3D
CALSCALE:GREGORIAN
BEGIN:VEVENT
DTSTART:20190404T160000Z
DTEND:20190404T180000Z
X-MICROSOFT-CDO-ALLDAYEVENT:FALSE
SUMMARY:Social Media 101
DESCRIPTION:This course is designed for entrepreneurs and business owners who have a basic understanding of social media and wish to build their social media presence. Social media concepts\, marketing basics\, and incorporating social media into your marketing strategy will be explored.\n\nSpeaker(s): Liz Hoffswell\, Business Consultant\, Small Business Development Center West Michigan Region\n\nIf you would like to register for this event after April 3\, 2019 at 8:00 AM please call (616) 331-7370.\n\nReasonable accommodations for persons with disabilities will be made\, if requested at least two weeks in advance. Please contact SBDC West Michigan at 616-331-7370 or email sbdc@gvsu.edu to make arrangements. The Michigan SBDC program is partially funded by the U.S. Small Business Administration. All MI-SBDC programs or co-sponsored programs are extended to the public on a nondiscriminatory basis.
X-ALT-DESC;FMTTYPE=text/html:This course is designed for entrepreneurs and business owners who have a basic understanding of social media and wish to build their social media presence. Social media concepts\, marketing basics\, and incorporating social media into your marketing strategy will be explored.\n\nSpeaker(s): Liz Hoffswell\, Business Consultant\, Small Business Development Center West Michigan Region\n\nIf you would like to register for this event after April 3\, 2019 at 8:00 AM please call (616) 331-7370.\n\nReasonable accommodations for persons with disabilities will be made\, if requested at least two weeks in advance. Please contact SBDC West Michigan at 616-331-7370 or email sbdc@gvsu.edu to make arrangements. The Michigan SBDC program is partially funded by the U.S. Small Business Administration. All MI-SBDC programs or co-sponsored programs are extended to the public on a nondiscriminatory basis.
LOCATION:GVSU L William Seidman Center Forum - Room A 1008 L William Seidman Center Forum - Room A Grand Valley State University 50 Front Ave SW Grand Rapids\, MI 49504
UID:e.2018.1148
SEQUENCE:3
DTSTAMP:20260420T050108Z
URL:https://members.westmihcc.org/events/details/social-media-101-04-04-2019-1148
END:VEVENT

END:VCALENDAR
