BEGIN:VCALENDAR
VERSION:2.0
PRODID:-//ChamberMaster//Event Calendar 2.0//EN
METHOD:PUBLISH
X-PUBLISHED-TTL:P3D
REFRESH-INTERVAL:P3D
CALSCALE:GREGORIAN
BEGIN:VEVENT
DTSTART:20171023T210000Z
DTEND:20171023T230000Z
X-MICROSOFT-CDO-ALLDAYEVENT:FALSE
SUMMARY:Social Media 101
DESCRIPTION:This course is designed for entrepreneurs and business owners who have a basic understanding of social media and wish to build their social media presence. Social media concepts\, marketing basics\, and incorporating social media into your marketing strategy will be explored.
X-ALT-DESC;FMTTYPE=text/html:This course is designed for entrepreneurs and business owners who have a basic understanding of social media and wish to build their social media presence. Social media concepts\, marketing basics\, and incorporating social media into your marketing strategy will be explored.
LOCATION:Walker\, Fluke\, and Sheldon 1971 S State Rd. Ionia\, MI 48846
UID:e.2018.674
SEQUENCE:3
DTSTAMP:20260423T050702Z
URL:https://members.westmihcc.org/events/details/social-media-101-674
END:VEVENT

END:VCALENDAR
