BEGIN:VCALENDAR
VERSION:2.0
PRODID:-//ChamberMaster//Event Calendar 2.0//EN
METHOD:PUBLISH
X-PUBLISHED-TTL:P3D
REFRESH-INTERVAL:P3D
CALSCALE:GREGORIAN
BEGIN:VEVENT
DTSTART:20160824T140000Z
DTEND:20160824T150000Z
X-MICROSOFT-CDO-ALLDAYEVENT:FALSE
SUMMARY:Social Media 101 - Basics of Social Media for Small Business - Webinar
DESCRIPTION:The why\, the what\, and the how for your small business or nonprofit. They're Out There   How Do You Reach Them? You know your prospects\, clients and members are active on social media. Are you asking: can social media really be harnessed for your business or nonprofit? Perhaps you're not convinced that it works   or you are\, but you're feeling overwhelmed and are not sure how to get started marketing your business with social media. This seminar will show you the value of using social media to reach your customers\, members and prospects   plus how it can drive repeat business from your current customers\, and how it can lead to new customers\, members and volunteers! We'll take a look at the 5 most popular social media networks   Facebook\, LinkedIn\, Twitter\, Pinterest and Instagram   and discuss: What each network is about What to post How often to post The business benefit of using each social network We'll also look at what comes next: what kinds of engaging\, share-worthy content to post to social media\, how to get started\, and how to use a content calendar to plan your social media posts. No cost! To register\, go online at https://clients.sbdcmichigan.org/workshop.aspx?ekey=1360046 or call SBDC West Michigan at (616)331-7370.
X-ALT-DESC;FMTTYPE=text/html:The why\, the what\, and the how for your small business or nonprofit. They&rsquo\;re Out There &ndash\; How Do You Reach Them? You know your prospects\, clients and members are active on social media. Are you asking: can social media really be harnessed for your business or nonprofit? Perhaps you&rsquo\;re not convinced that it works &ndash\; or you are\, but you&rsquo\;re feeling overwhelmed and are not sure how to get started marketing your business with social media. This seminar will show you the value of using social media to reach your customers\, members and prospects &ndash\; plus how it can drive repeat business from your current customers\, and how it can lead to new customers\, members and volunteers! We&rsquo\;ll take a look at the 5 most popular social media networks &ndash\; Facebook\, LinkedIn\, Twitter\, Pinterest and Instagram &ndash\; and discuss: What each network is about What to post How often to post The business benefit of using each social network We&rsquo\;ll also look at what comes next: what kinds of engaging\, share-worthy content to post to social media\, how to get started\, and how to use a content calendar to plan your social media posts. No cost! To register\, go online at https://clients.sbdcmichigan.org/workshop.aspx?ekey=1360046 or call SBDC West Michigan at (616)331-7370.
LOCATION:Online (Webinar)
UID:e.2018.451
SEQUENCE:3
DTSTAMP:20260426T000335Z
URL:https://members.westmihcc.org/events/details/social-media-101-basics-of-social-media-for-small-business-webinar-08-24-2016-451
END:VEVENT

END:VCALENDAR
