BEGIN:VCALENDAR
VERSION:2.0
PRODID:-//ChamberMaster//Event Calendar 2.0//EN
METHOD:PUBLISH
X-PUBLISHED-TTL:P3D
REFRESH-INTERVAL:P3D
CALSCALE:GREGORIAN
BEGIN:VEVENT
DTSTART:20160907T140000Z
DTEND:20160907T150000Z
X-MICROSOFT-CDO-ALLDAYEVENT:FALSE
SUMMARY:Social Media 102 - You're Social\, Now What? - Webinar
DESCRIPTION:Find out which networks are right for you and how to use them. You've thought about what social networks to use for your business or nonprofit\, and you're ready to take the next step. Where do you go from there? This seminar will give you a closer look at the popular social media networks   Facebook\, Twitter\, LinkedIn\, Pinterest\, and Instagram. We'll show you the benefits of using each\, what kind of content to create\, tips on using photos and videos\, and examples of how other organizations are marketing with them. You'll also get tips on how to use analytics tools to tell if your social media activity is working. No cost! To register\, go online at https://clients.sbdcmichigan.org/workshop.aspx?ekey=1360047 or call SBDC West Michigan at (616) 331-7370.
X-ALT-DESC;FMTTYPE=text/html:Find out which networks are right for you and how to use them. You&rsquo\;ve thought about what social networks to use for your business or nonprofit\, and you&rsquo\;re ready to take the next step. Where do you go from there? This seminar will give you a closer look at the popular social media networks &ndash\; Facebook\, Twitter\, LinkedIn\, Pinterest\, and Instagram. We&rsquo\;ll show you the benefits of using each\, what kind of content to create\, tips on using photos and videos\, and examples of how other organizations are marketing with them. You&rsquo\;ll also get tips on how to use analytics tools to tell if your social media activity is working. No cost! To register\, go online at https://clients.sbdcmichigan.org/workshop.aspx?ekey=1360047 or call SBDC West Michigan at (616) 331-7370.
LOCATION:Online (Webinar)
UID:e.2018.452
SEQUENCE:3
DTSTAMP:20260425T230151Z
URL:https://members.westmihcc.org/events/details/social-media-102-you-re-social-now-what-webinar-09-07-2016-452
END:VEVENT

END:VCALENDAR
