BEGIN:VCALENDAR
VERSION:2.0
PRODID:-//ChamberMaster//Event Calendar 2.0//EN
METHOD:PUBLISH
X-PUBLISHED-TTL:P3D
REFRESH-INTERVAL:P3D
CALSCALE:GREGORIAN
BEGIN:VEVENT
DTSTART:20190411T190000Z
DTEND:20190411T210000Z
X-MICROSOFT-CDO-ALLDAYEVENT:FALSE
SUMMARY:Social Media 201
DESCRIPTION:This course is designed for entrepreneurs and business owners who are proficient with social media. Participants will gain a better understanding of the importance of integrating social media into their marketing strategy. An overview of social media platforms in addition to Facebook and Twitter and useful online tools will be presented as well. Speaker(s): Liz Hoffswell\, Business Consultant\, Small Business Development Center West Michigan Region If you would like to register for this event after April 10\, 2019 at 8:00 AM please call (616) 331-7370.
X-ALT-DESC;FMTTYPE=text/html:This course is designed for entrepreneurs and business owners who are proficient with social media. Participants will gain a better understanding of the importance of integrating social media into their marketing strategy. An overview of social media platforms in addition to Facebook and Twitter and useful online tools will be presented as well. Speaker(s): Liz Hoffswell\, Business Consultant\, Small Business Development Center West Michigan Region If you would like to register for this event after April 10\, 2019 at 8:00 AM please call (616) 331-7370.
LOCATION:GVSU L William Seidman Center Forum - Room A 1008 L William Seidman Center Forum - Room A Forum A Grand Valley State University 50 Front Ave SW Grand Rapids\, MI 49504
UID:e.2018.1157
SEQUENCE:3
DTSTAMP:20260420T050257Z
URL:https://members.westmihcc.org/events/details/social-media-201-04-11-2019-1157
END:VEVENT

END:VCALENDAR
